BEGIN:VCALENDAR
PRODID:-//AT Content Types//AT Event//EN
VERSION:2.0
METHOD:PUBLISH
BEGIN:VEVENT
DTSTAMP:20260424T144529Z
CREATED:20150421T224146Z
UID:ATEvent-eefc9c5300b64ab9fc5783cf2272b494
LAST-MODIFIED:20150421T224417Z
SUMMARY:Maunakea Teach-in\: Kū Kiaʻi Mauna on UH West O'ahu campus
DTSTART:20150423T180000Z
DTEND:20150423T203000Z
DESCRIPTION:Film viewing and panel discussion\, featuring Walter Ritte
 \, Bianca Isaki\, Ilima Long and Noelani Goodyear-Kaopua
LOCATION:UH West O'ahu Campus
CATEGORIES:TMT
CONTACT:lauren@kahea.org
CLASS:PUBLIC
END:VEVENT
END:VCALENDAR
