BEGIN:VCALENDAR
PRODID:-//AT Content Types//AT Event//EN
VERSION:2.0
METHOD:PUBLISH
BEGIN:VEVENT
DTSTAMP:20260424T143108Z
CREATED:20150426T094215Z
UID:ATEvent-a7effd9d2794af18f716ca550316b08c
LAST-MODIFIED:20150426T230427Z
SUMMARY:Wai'anae Film Series #9 - Mauna Kea Temple Under Siege Screening and Discussion
DTSTART:20150502T000000Z
DTEND:20150502T033000Z
DESCRIPTION:Film screening and guest speaker panel featuring Marti Tow
 nsend\, Baron Ching\, and Genai Keli'ikuli
LOCATION:Kamehameha Schools Community Learning Center at Nanakuli
CATEGORIES:TMT
CONTACT:Summer Miles \, waianaefilmseries@gmail.com
CLASS:PUBLIC
END:VEVENT
END:VCALENDAR
